BEGIN:VCALENDAR
VERSION:2.0
PRODID:-//Ziber2013/
CALSCALE:GREGORIAN
BEGIN:VEVENT
UID:243479@https://www.ikcschatrijkbodegraven.nl
DTSTART:20260714T000000
DTEND:20260714T235959
SUMMARY:Musical groep 8 (tijd volgt)
DESCRIPTION:
LOCATION:IKC Schatrijk\, Eendrachtsweg 30\, 2411 VL Bodegraven
X-MICROSOFT-CDO-ALLDAYEVENT:TRUE
ATTACH;FMTTYPE=image/jpeg:/content/monsterGallery/musical.png?width=1600&height=1200
SEQUENCE:0
DTSTAMP:20260420T105241
END:VEVENT
END:VCALENDAR
